BEGIN:VCALENDAR
VERSION:2.0
PRODID:-//Pi Sigma Epsilon - ECPv6.15.20//NONSGML v1.0//EN
CALSCALE:GREGORIAN
METHOD:PUBLISH
X-WR-CALNAME:Pi Sigma Epsilon
X-ORIGINAL-URL:https://pse.org
X-WR-CALDESC:Events for Pi Sigma Epsilon
REFRESH-INTERVAL;VALUE=DURATION:PT1H
X-Robots-Tag:noindex
X-PUBLISHED-TTL:PT1H
BEGIN:VTIMEZONE
TZID:America/Detroit
BEGIN:DAYLIGHT
TZOFFSETFROM:-0500
TZOFFSETTO:-0400
TZNAME:EDT
DTSTART:20230312T070000
END:DAYLIGHT
BEGIN:STANDARD
TZOFFSETFROM:-0400
TZOFFSETTO:-0500
TZNAME:EST
DTSTART:20231105T060000
END:STANDARD
BEGIN:DAYLIGHT
TZOFFSETFROM:-0500
TZOFFSETTO:-0400
TZNAME:EDT
DTSTART:20240310T070000
END:DAYLIGHT
BEGIN:STANDARD
TZOFFSETFROM:-0400
TZOFFSETTO:-0500
TZNAME:EST
DTSTART:20241103T060000
END:STANDARD
BEGIN:DAYLIGHT
TZOFFSETFROM:-0500
TZOFFSETTO:-0400
TZNAME:EDT
DTSTART:20250309T070000
END:DAYLIGHT
BEGIN:STANDARD
TZOFFSETFROM:-0400
TZOFFSETTO:-0500
TZNAME:EST
DTSTART:20251102T060000
END:STANDARD
BEGIN:DAYLIGHT
TZOFFSETFROM:-0500
TZOFFSETTO:-0400
TZNAME:EDT
DTSTART:20260308T070000
END:DAYLIGHT
BEGIN:STANDARD
TZOFFSETFROM:-0400
TZOFFSETTO:-0500
TZNAME:EST
DTSTART:20261101T060000
END:STANDARD
BEGIN:DAYLIGHT
TZOFFSETFROM:-0500
TZOFFSETTO:-0400
TZNAME:EDT
DTSTART:20270314T070000
END:DAYLIGHT
BEGIN:STANDARD
TZOFFSETFROM:-0400
TZOFFSETTO:-0500
TZNAME:EST
DTSTART:20271107T060000
END:STANDARD
END:VTIMEZONE
BEGIN:VEVENT
DTSTART;VALUE=DATE:20260415
DTEND;VALUE=DATE:20260416
DTSTAMP:20260425T085741
CREATED:20260206T053231Z
LAST-MODIFIED:20260206T053231Z
UID:25300-1776211200-1776297599@pse.org
SUMMARY:Spring Officers
DESCRIPTION:
URL:https://pse.org/event/spring-officers/
CATEGORIES:PSE National Headquarters
END:VEVENT
BEGIN:VEVENT
DTSTART;VALUE=DATE:20260415
DTEND;VALUE=DATE:20260416
DTSTAMP:20260425T085741
CREATED:20260206T053211Z
LAST-MODIFIED:20260402T194919Z
UID:25298-1776211200-1776297599@pse.org
SUMMARY:Chapter Roster Report
DESCRIPTION:
URL:https://pse.org/event/renewing-members/
CATEGORIES:PSE National Headquarters
END:VEVENT
BEGIN:VEVENT
DTSTART;VALUE=DATE:20260327
DTEND;VALUE=DATE:20260328
DTSTAMP:20260425T085741
CREATED:20260205T211052Z
LAST-MODIFIED:20260205T211052Z
UID:25278-1774569600-1774655999@pse.org
SUMMARY:Pro-Am\, Interview\, and Speakers Winners Announced On-Site
DESCRIPTION:
URL:https://pse.org/event/pro-am-interview-and-speakers-winners-announced-on-site/
CATEGORIES:PSE National Headquarters
END:VEVENT
BEGIN:VEVENT
DTSTART;VALUE=DATE:20260325
DTEND;VALUE=DATE:20260328
DTSTAMP:20260425T085741
CREATED:20260205T211001Z
LAST-MODIFIED:20260205T211001Z
UID:25274-1774396800-1774655999@pse.org
SUMMARY:PSE National Convention 2026
DESCRIPTION:
URL:https://pse.org/event/pse-national-convention-2026/
CATEGORIES:PSE National Headquarters
END:VEVENT
BEGIN:VEVENT
DTSTART;VALUE=DATE:20260325
DTEND;VALUE=DATE:20260327
DTSTAMP:20260425T085741
CREATED:20260205T211024Z
LAST-MODIFIED:20260205T211024Z
UID:25276-1774396800-1774569599@pse.org
SUMMARY:Pro-Am\, Interview\, and Speakers Final Round On-Site
DESCRIPTION:
URL:https://pse.org/event/pro-am-interview-and-speakers-final-round-on-site/
CATEGORIES:PSE National Headquarters
END:VEVENT
BEGIN:VEVENT
DTSTART;VALUE=DATE:20260320
DTEND;VALUE=DATE:20260321
DTSTAMP:20260425T085741
CREATED:20260205T210941Z
LAST-MODIFIED:20260205T210941Z
UID:25272-1773964800-1774051199@pse.org
SUMMARY:Interview Competition Finalists Announced
DESCRIPTION:
URL:https://pse.org/event/interview-competition-finalists-announced/
CATEGORIES:PSE National Headquarters
END:VEVENT
BEGIN:VEVENT
DTSTART;VALUE=DATE:20260315
DTEND;VALUE=DATE:20260316
DTSTAMP:20260425T085741
CREATED:20260206T053149Z
LAST-MODIFIED:20260206T053149Z
UID:25296-1773532800-1773619199@pse.org
SUMMARY:Spring Risk Management Compliance
DESCRIPTION:
URL:https://pse.org/event/spring-risk-management-compliance/
CATEGORIES:PSE National Headquarters
END:VEVENT
BEGIN:VEVENT
DTSTART;VALUE=DATE:20260315
DTEND;VALUE=DATE:20260316
DTSTAMP:20260425T085741
CREATED:20260206T053124Z
LAST-MODIFIED:20260206T053124Z
UID:25294-1773532800-1773619199@pse.org
SUMMARY:Spring New Members
DESCRIPTION:
URL:https://pse.org/event/spring-new-members/
CATEGORIES:PSE National Headquarters
END:VEVENT
BEGIN:VEVENT
DTSTART;VALUE=DATE:20260315
DTEND;VALUE=DATE:20260316
DTSTAMP:20260425T085741
CREATED:20260206T053055Z
LAST-MODIFIED:20260206T053055Z
UID:25292-1773532800-1773619199@pse.org
SUMMARY:Chapter Bylaws
DESCRIPTION:
URL:https://pse.org/event/chapter-bylaws/
CATEGORIES:PSE National Headquarters
END:VEVENT
BEGIN:VEVENT
DTSTART;VALUE=DATE:20260313
DTEND;VALUE=DATE:20260314
DTSTAMP:20260425T085741
CREATED:20260205T210913Z
LAST-MODIFIED:20260205T210913Z
UID:25270-1773360000-1773446399@pse.org
SUMMARY:Hotel Reservation Cutoff Deadline
DESCRIPTION:
URL:https://pse.org/event/hotel-reservation-cutoff-deadline/
CATEGORIES:PSE National Headquarters
END:VEVENT
BEGIN:VEVENT
DTSTART;VALUE=DATE:20260313
DTEND;VALUE=DATE:20260314
DTSTAMP:20260425T085741
CREATED:20260205T210855Z
LAST-MODIFIED:20260205T210855Z
UID:25268-1773360000-1773446399@pse.org
SUMMARY:National Convention Registration Closes
DESCRIPTION:
URL:https://pse.org/event/national-convention-registration-closes/
CATEGORIES:PSE National Headquarters
END:VEVENT
BEGIN:VEVENT
DTSTART;VALUE=DATE:20260311
DTEND;VALUE=DATE:20260312
DTSTAMP:20260425T085741
CREATED:20260205T210743Z
LAST-MODIFIED:20260205T210743Z
UID:25266-1773187200-1773273599@pse.org
SUMMARY:Pro-Am & Speakers Competition Finalists Announced
DESCRIPTION:
URL:https://pse.org/event/pro-am-speakers-competition-finalists-announced/
CATEGORIES:PSE National Headquarters
END:VEVENT
BEGIN:VEVENT
DTSTART;VALUE=DATE:20260304
DTEND;VALUE=DATE:20260305
DTSTAMP:20260425T085741
CREATED:20260205T210646Z
LAST-MODIFIED:20260205T210646Z
UID:25263-1772582400-1772668799@pse.org
SUMMARY:Standard Convention Pricing Ends
DESCRIPTION:
URL:https://pse.org/event/standard-convention-pricing-ends/
CATEGORIES:PSE National Headquarters
END:VEVENT
BEGIN:VEVENT
DTSTART;VALUE=DATE:20260304
DTEND;VALUE=DATE:20260305
DTSTAMP:20260425T085741
CREATED:20260205T210622Z
LAST-MODIFIED:20260205T210708Z
UID:25261-1772582400-1772668799@pse.org
SUMMARY:Pro-am & Speakers Competition First Round Deadline
DESCRIPTION:
URL:https://pse.org/event/pro-am-speakers-competition-first-round-deadlin/
CATEGORIES:PSE National Headquarters
END:VEVENT
BEGIN:VEVENT
DTSTART;VALUE=DATE:20260227
DTEND;VALUE=DATE:20260319
DTSTAMP:20260425T085741
CREATED:20260205T210505Z
LAST-MODIFIED:20260205T210505Z
UID:25257-1772150400-1773878399@pse.org
SUMMARY:Interview Comp First Round Virtual Interviews
DESCRIPTION:
URL:https://pse.org/event/interview-comp-first-round-virtual-interviews/
CATEGORIES:PSE National Headquarters
END:VEVENT
BEGIN:VEVENT
DTSTART;VALUE=DATE:20260227
DTEND;VALUE=DATE:20260228
DTSTAMP:20260425T085741
CREATED:20260205T210557Z
LAST-MODIFIED:20260205T210557Z
UID:25259-1772150400-1772236799@pse.org
SUMMARY:Legacy Scholarship Finalists Announced
DESCRIPTION:
URL:https://pse.org/event/legacy-scholarship-finalists-announced/
CATEGORIES:PSE National Headquarters
END:VEVENT
BEGIN:VEVENT
DTSTART;VALUE=DATE:20260225
DTEND;VALUE=DATE:20260226
DTSTAMP:20260425T085741
CREATED:20260205T210148Z
LAST-MODIFIED:20260205T210154Z
UID:25251-1771977600-1772063999@pse.org
SUMMARY:Convention Competitions Sign Up Deadline
DESCRIPTION:
URL:https://pse.org/event/convention-competitions-sign-up-deadline/
CATEGORIES:PSE National Headquarters
END:VEVENT
BEGIN:VEVENT
DTSTART;VALUE=DATE:20260224
DTEND;VALUE=DATE:20260225
DTSTAMP:20260425T085741
CREATED:20260205T210124Z
LAST-MODIFIED:20260205T210124Z
UID:25249-1771891200-1771977599@pse.org
SUMMARY:National Awards Program Finalists Announced
DESCRIPTION:
URL:https://pse.org/event/national-awards-program-finalists-announced/
CATEGORIES:Events and Competitions,PSE National Headquarters
END:VEVENT
BEGIN:VEVENT
DTSTART;VALUE=DATE:20260218
DTEND;VALUE=DATE:20260219
DTSTAMP:20260425T085741
CREATED:20260205T205549Z
LAST-MODIFIED:20260205T210056Z
UID:25247-1771372800-1771459199@pse.org
SUMMARY:Corporate Member & Future Leader Winners Announced
DESCRIPTION:
URL:https://pse.org/event/corporate-member-future-leader-winners-announced/
CATEGORIES:Events and Competitions,PSE National Headquarters
END:VEVENT
BEGIN:VEVENT
DTSTART;VALUE=DATE:20260215
DTEND;VALUE=DATE:20260216
DTSTAMP:20260425T085741
CREATED:20260206T054017Z
LAST-MODIFIED:20260206T054017Z
UID:25322-1771113600-1771199999@pse.org
SUMMARY:Financial Report: Annual Budget
DESCRIPTION:
URL:https://pse.org/event/financial-report-annual-budget/
CATEGORIES:PSE National Headquarters
END:VEVENT
BEGIN:VEVENT
DTSTART;VALUE=DATE:20260215
DTEND;VALUE=DATE:20260216
DTSTAMP:20260425T085741
CREATED:20260206T053004Z
LAST-MODIFIED:20260206T053004Z
UID:25290-1771113600-1771199999@pse.org
SUMMARY:Spring Chapter Recruitment and New Member Training Plan
DESCRIPTION:
URL:https://pse.org/event/spring-chapter-recruitment-and-new-member-training-plan/
CATEGORIES:PSE National Headquarters
END:VEVENT
BEGIN:VEVENT
DTSTART;VALUE=DATE:20260215
DTEND;VALUE=DATE:20260216
DTSTAMP:20260425T085741
CREATED:20260206T052920Z
LAST-MODIFIED:20260206T053024Z
UID:25288-1771113600-1771199999@pse.org
SUMMARY:Franchise Guide Report: Part 1
DESCRIPTION:
URL:https://pse.org/event/franchise-guide-report-part-1/
CATEGORIES:PSE National Headquarters
END:VEVENT
BEGIN:VEVENT
DTSTART;VALUE=DATE:20260215
DTEND;VALUE=DATE:20260216
DTSTAMP:20260425T085741
CREATED:20260205T205520Z
LAST-MODIFIED:20260205T205520Z
UID:25245-1771113600-1771199999@pse.org
SUMMARY:Legacy Scholarship Application Closes
DESCRIPTION:
URL:https://pse.org/event/legacy-scholarship-application-closes/
CATEGORIES:Events and Competitions,PSE National Headquarters
END:VEVENT
BEGIN:VEVENT
DTSTART;VALUE=DATE:20251128
DTEND;VALUE=DATE:20251129
DTSTAMP:20260425T085741
CREATED:20250918T022107Z
LAST-MODIFIED:20250918T182545Z
UID:23594-1764288000-1764374399@pse.org
SUMMARY:PSE Office Closed
DESCRIPTION:
URL:https://pse.org/event/pse-office-closed/
CATEGORIES:PSE National Headquarters
END:VEVENT
BEGIN:VEVENT
DTSTART;VALUE=DATE:20251127
DTEND;VALUE=DATE:20251128
DTSTAMP:20260425T085741
CREATED:20250918T022040Z
LAST-MODIFIED:20250918T182556Z
UID:23592-1764201600-1764287999@pse.org
SUMMARY:Thanksgiving Holiday - OFFICE CLOSED
DESCRIPTION:
URL:https://pse.org/event/thanksgiving-holiday-office-closed/
CATEGORIES:PSE National Headquarters
END:VEVENT
BEGIN:VEVENT
DTSTART;VALUE=DATE:20251013
DTEND;VALUE=DATE:20251014
DTSTAMP:20260425T085741
CREATED:20250918T020407Z
LAST-MODIFIED:20250918T190502Z
UID:23508-1760313600-1760399999@pse.org
SUMMARY:Columbus Day Holiday - OFFICE CLOSED
DESCRIPTION:
URL:https://pse.org/event/columbus-day-holiday-office-closed-2/
CATEGORIES:PSE National Headquarters
END:VEVENT
BEGIN:VEVENT
DTSTART;VALUE=DATE:20250324
DTEND;VALUE=DATE:20250326
DTSTAMP:20260425T085741
CREATED:20240821T200458Z
LAST-MODIFIED:20240821T200458Z
UID:3532-1742774400-1742947199@pse.org
SUMMARY:OFFICE CLOSED (Post-Convention)
DESCRIPTION:
URL:https://pse.org/event/office-closed-post-convention/
CATEGORIES:PSE National Headquarters
END:VEVENT
BEGIN:VEVENT
DTSTART;VALUE=DATE:20240704
DTEND;VALUE=DATE:20240705
DTSTAMP:20260425T085741
CREATED:20240821T195822Z
LAST-MODIFIED:20240821T195822Z
UID:3472-1720051200-1720137599@pse.org
SUMMARY:Independence Day - OFFICE CLOSED
DESCRIPTION:
URL:https://pse.org/event/independence-day-office-closed/
CATEGORIES:PSE National Headquarters
END:VEVENT
END:VCALENDAR